BEGIN:VCALENDAR
VERSION:2.0
PRODID:-//AmCham/Mexico - ECPv6.2.8.2//NONSGML v1.0//EN
CALSCALE:GREGORIAN
METHOD:PUBLISH
X-ORIGINAL-URL:https://amcham.com.mx
X-WR-CALDESC:Eventos para AmCham/Mexico
REFRESH-INTERVAL;VALUE=DURATION:PT1H
X-Robots-Tag:noindex
X-PUBLISHED-TTL:PT1H
BEGIN:VTIMEZONE
TZID:America/New_York
BEGIN:DAYLIGHT
TZOFFSETFROM:-0500
TZOFFSETTO:-0400
TZNAME:EDT
DTSTART:20230312T070000
END:DAYLIGHT
BEGIN:STANDARD
TZOFFSETFROM:-0400
TZOFFSETTO:-0500
TZNAME:EST
DTSTART:20231105T060000
END:STANDARD
END:VTIMEZONE
BEGIN:VEVENT
DTSTART;TZID=America/New_York:20230313T083000
DTEND;TZID=America/New_York:20230313T100000
DTSTAMP:20260424T081635
CREATED:20230310T165729Z
LAST-MODIFIED:20230310T165729Z
UID:337529-1678696200-1678701600@amcham.com.mx
SUMMARY:Agenda legislativa en materia energética
DESCRIPTION:Con la participación de: \nRaúl Bolaños-Cacho\nSecretario de la Comisión de Energía | Senado de la República
URL:https://amcham.com.mx/event/agenda-legislativa-en-materia-energetica/
LOCATION:Oficinas AmCham\, Av. Paseo de la Reforma 295\, México\, CDMX\, 06500\, Mexico
ORGANIZER;CN="Comit%C3%A9 de Energ%C3%ADa":MAILTO:jquintero@amcham.org.mx
END:VEVENT
BEGIN:VEVENT
DTSTART;TZID=America/New_York:20230321T150000
DTEND;TZID=America/New_York:20230321T163000
DTSTAMP:20260424T081635
CREATED:20230303T211530Z
LAST-MODIFIED:20230303T211530Z
UID:337518-1679410800-1679416200@amcham.com.mx
SUMMARY:Asesoría llenado Cuestionario DS160 (Visas B1/B2) - Nal.
DESCRIPTION:
URL:https://amcham.com.mx/event/asesoria-llenado-cuestionario-ds160-visas-b1-b2-nal/
END:VEVENT
END:VCALENDAR